BEGIN:VCALENDAR
VERSION:2.0
PRODID:-//Karène NEUVILLE - ECPv6.15.20//NONSGML v1.0//EN
CALSCALE:GREGORIAN
METHOD:PUBLISH
X-WR-CALNAME:Karène NEUVILLE
X-ORIGINAL-URL:https://kareneneuville.fr
X-WR-CALDESC:Évènements pour Karène NEUVILLE
REFRESH-INTERVAL;VALUE=DURATION:PT1H
X-Robots-Tag:noindex
X-PUBLISHED-TTL:PT1H
BEGIN:VTIMEZONE
TZID:Europe/Paris
BEGIN:DAYLIGHT
TZOFFSETFROM:+0100
TZOFFSETTO:+0200
TZNAME:CEST
DTSTART:20250330T010000
END:DAYLIGHT
BEGIN:STANDARD
TZOFFSETFROM:+0200
TZOFFSETTO:+0100
TZNAME:CET
DTSTART:20251026T010000
END:STANDARD
BEGIN:DAYLIGHT
TZOFFSETFROM:+0100
TZOFFSETTO:+0200
TZNAME:CEST
DTSTART:20260329T010000
END:DAYLIGHT
BEGIN:STANDARD
TZOFFSETFROM:+0200
TZOFFSETTO:+0100
TZNAME:CET
DTSTART:20261025T010000
END:STANDARD
BEGIN:DAYLIGHT
TZOFFSETFROM:+0100
TZOFFSETTO:+0200
TZNAME:CEST
DTSTART:20270328T010000
END:DAYLIGHT
BEGIN:STANDARD
TZOFFSETFROM:+0200
TZOFFSETTO:+0100
TZNAME:CET
DTSTART:20271031T010000
END:STANDARD
END:VTIMEZONE
BEGIN:VEVENT
DTSTART;TZID=Europe/Paris:20260418T143000
DTEND;TZID=Europe/Paris:20260418T190000
DTSTAMP:20260420T110834
CREATED:20260129T090537Z
LAST-MODIFIED:20260129T090537Z
UID:6844-1776522600-1776538800@kareneneuville.fr
SUMMARY:AURILLAC (15)
DESCRIPTION:Après-midi dansant à la salle de AURILLAC (15) à partir de 14h30
URL:https://kareneneuville.fr/agenda/aurillac-15/
LOCATION:Aurillac\, 4 rue Denis Papin\, Aurillac\, 15000\, France
CATEGORIES:Accordéon
END:VEVENT
END:VCALENDAR